{"text_format":"1","workbook":"xlsx","n_sheets":3,"sheets":["Turning Turtles","必勝の取り方","NIM和"],"not_rendered":{"charts":0,"images":0,"macros":1,"external_links":0,"defined_names":0,"comments":0,"pivot_tables":0},"unopened":[],"bounds":{"document_bytes":16777216,"sheet_cells":100000,"rows_first":2000,"rows_last":500,"rows_between":2000,"halvings":0,"cell_chars":16384,"cell_head_chars":4096},"cells_cut":0,"cells_raw":0,"read":"whole","date_system":"1900"}

{"sheet":"Turning Turtles","index":0,"n_rows":38,"n_cols":16,"rows_kept":38,"cut":false,"hidden":false,"merged":[]}
["Turning Turtles"]
[]
[]
[null,"No",1,2,3,4,5,6,7,8,9,10,11,12,13]
[null,"コインの\n状態","T","T","T","T","T","T","T","T","T","T","T","T","T"]
[]
[]
[]
[]
[]
[]
[]
[]
[]
[]
[]
[]
[]
[]
[]
[]
[]
[]
[]
[]
[]
[]
[]
[]
[]
[]
[null,null,1,2,3,4,5,6,7,8,9,10,11,12,13]
[null,null,{"$f":"IF(C34<0.5,\"H\",\"T\")","v":"H"},{"$f":"IF(D34<0.5,\"H\",\"T\")","v":"T"},"H","T","T","T","T","H","H","H","H","H","H"]
[null,null,{"$f":"RAND()","v":0.15286313779370908},{"$f":"RAND()","v":0.95171378800497586},0.41681611597336277,0.92142914288002442,0.50158308433944765,0.89428531002045486,0.66742525998534508,0.36261308710769946,0.45181672566814524,0.34681354938412834,0.2582009404786717,0.11482031325954756,0.1075866940210054]
[null,null,null,null,null,null,null,null,null,null,null,null,null,null,null,"積"]
[null,"終了判定",{"$f":"IF(C5=\"T\",1,0)","v":1},{"$f":"IF(D5=\"T\",1,0)","v":1},1,1,1,1,1,1,1,1,1,1,1,{"$f":"PRODUCT(C36:O36)","v":1}]
[]
[1,2,3,4,5,6,7,8,9,10,11,12,13,14,15,16]

{"sheet":"必勝の取り方","index":1,"n_rows":15,"n_cols":3,"rows_kept":15,"cut":false,"hidden":false,"merged":[]}
[]
[null,"ひっくり返す位置（最初）","ひっくり返す位置（２番目）"]
[13,{"$f":"IF(C3=\"\",\"\",A3)","v":""},{"$f":"IF(NIM和!O60=0,\"\",IF(ISERROR(A3-NIM和!O60),\"\",A3-NIM和!O60))","v":""}]
[12,{"$f":"IF(C4=\"\",\"\",A4)","v":""},{"$f":"IF(NIM和!O61=0,\"\",IF(ISERROR(A4-NIM和!O61),\"\",A4-NIM和!O61))","v":""}]
[11,"",{"$f":"IF(NIM和!O62=0,\"\",IF(ISERROR(A5-NIM和!O62),\"\",A5-NIM和!O62))","v":""}]
[10,"",{"$f":"IF(NIM和!O63=0,\"\",IF(ISERROR(A6-NIM和!O63),\"\",A6-NIM和!O63))","v":""}]
[9,"",{"$f":"IF(NIM和!O64=0,\"\",IF(ISERROR(A7-NIM和!O64),\"\",A7-NIM和!O64))","v":""}]
[8,"",{"$f":"IF(NIM和!O65=0,\"\",IF(ISERROR(A8-NIM和!O65),\"\",A8-NIM和!O65))","v":""}]
[7,"",{"$f":"IF(NIM和!O66=0,\"\",IF(ISERROR(A9-NIM和!O66),\"\",A9-NIM和!O66))","v":""}]
[6,"",{"$f":"IF(NIM和!O67=0,\"\",IF(ISERROR(A10-NIM和!O67),\"\",A10-NIM和!O67))","v":""}]
[5,"",{"$f":"IF(NIM和!O68=0,\"\",IF(ISERROR(A11-NIM和!O68),\"\",A11-NIM和!O68))","v":""}]
[4,"",{"$f":"IF(NIM和!O69=0,\"\",IF(ISERROR(A12-NIM和!O69),\"\",A12-NIM和!O69))","v":""}]
[3,"",{"$f":"IF(NIM和!O70=0,\"\",IF(ISERROR(A13-NIM和!O70),\"\",A13-NIM和!O70))","v":""}]
[2,"",{"$f":"IF(NIM和!O71=0,\"\",IF(ISERROR(A14-NIM和!O71),\"\",A14-NIM和!O71))","v":""}]
[1,"",{"$f":"IF(NIM和!O72=0,\"\",IF(ISERROR(A15-NIM和!O72),\"\",A15-NIM和!O72))","v":""}]

{"sheet":"NIM和","index":2,"n_rows":72,"n_cols":15,"rows_kept":72,"cut":false,"hidden":true,"merged":[]}
["NIM和の計算シート"]
[]
[]
[null,null,"山No","石の合計",null,128,64,32,16,8,4,2,1]
[null,null,13,{"$f":"IF('Turning Turtles'!O5=\"H\",13,0)","v":0},null,{"$f":"($D5-MOD($D5,F$4))/F$4","v":0},{"$f":"($D5-F$4*F5-MOD($D5,G$4))/G$4","v":0},{"$f":"($D5-F$4*$F5-G$4*G5-MOD($D5,H$4))/H$4","v":0},{"$f":"($D5-F$4*$F5-G$4*$G5-H$4*H5-MOD($D5,I$4))/I$4","v":0},{"$f":"($D5-F$4*$F5-G$4*$G5-H$4*$H5-I$4*I5-MOD($D5,J$4))/J$4","v":0},{"$f":"($D5-F$4*$F5-G$4*$G5-H$4*$H5-I$4*I5-J$4*J5-MOD($D5,K$4))/K$4","v":0},{"$f":"($D5-F$4*$F5-G$4*$G5-H$4*$H5-I$4*I5-J$4*J5-K$4*K5-MOD($D5,L$4))/L$4","v":0},{"$f":"($D5-F$4*$F5-G$4*$G5-H$4*$H5-I$4*I5-J$4*J5-K$4*K5-L$4*L5-MOD($D5,M$4))/M$4","v":0}]
[null,null,12,{"$f":"IF('Turning Turtles'!N5=\"H\",12,0)","v":0},null,0,0,0,0,0,0,0,0]
[null,null,11,{"$f":"IF('Turning Turtles'!M5=\"H\",11,0)","v":0},null,0,0,0,0,0,0,0,0]
[null,null,10,{"$f":"IF('Turning Turtles'!L5=\"H\",10,0)","v":0},null,0,0,0,0,0,0,0,0]
[null,null,9,{"$f":"IF('Turning Turtles'!K5=\"H\",9,0)","v":0},null,0,0,0,0,0,0,0,0]
[null,null,8,{"$f":"IF('Turning Turtles'!J5=\"H\",8,0)","v":0},null,0,0,0,0,0,0,0,0]
[null,null,7,{"$f":"IF('Turning Turtles'!I5=\"H\",7,0)","v":0},null,{"$f":"($D11-MOD($D11,F$4))/F$4","v":0},{"$f":"($D11-F$4*F11-MOD($D11,G$4))/G$4","v":0},{"$f":"($D11-F$4*$F11-G$4*G11-MOD($D11,H$4))/H$4","v":0},{"$f":"($D11-F$4*$F11-G$4*$G11-H$4*H11-MOD($D11,I$4))/I$4","v":0},{"$f":"($D11-F$4*$F11-G$4*$G11-H$4*$H11-I$4*I11-MOD($D11,J$4))/J$4","v":0},{"$f":"($D11-F$4*$F11-G$4*$G11-H$4*$H11-I$4*I11-J$4*J11-MOD($D11,K$4))/K$4","v":0},{"$f":"($D11-F$4*$F11-G$4*$G11-H$4*$H11-I$4*I11-J$4*J11-K$4*K11-MOD($D11,L$4))/L$4","v":0},{"$f":"($D11-F$4*$F11-G$4*$G11-H$4*$H11-I$4*I11-J$4*J11-K$4*K11-L$4*L11-MOD($D11,M$4))/M$4","v":0}]
[null,null,6,{"$f":"IF('Turning Turtles'!H5=\"H\",6,0)","v":0},null,0,0,0,0,0,0,0,0]
[null,null,5,{"$f":"IF('Turning Turtles'!G5=\"H\",5,0)","v":0},null,0,0,0,0,0,0,0,0]
[null,null,4,{"$f":"IF('Turning Turtles'!F5=\"H\",4,0)","v":0},null,0,0,0,0,0,0,0,0]
[null,null,3,{"$f":"IF('Turning Turtles'!E5=\"H\",3,0)","v":0},null,0,0,0,0,0,0,0,0]
[null,null,2,{"$f":"IF('Turning Turtles'!D5=\"H\",2,0)","v":0},null,0,0,0,0,0,0,0,0]
[null,null,1,{"$f":"IF('Turning Turtles'!C5=\"H\",1,0)","v":0},null,0,0,0,0,0,0,0,0]
[]
[null,null,"NIM和",{"$f":"F4*F19+G4*G19+H4*H19+I4*I19+J4*J19+K4*K19+L4*L19+M4*M19","v":0},null,{"$f":"MOD(SUM(F5:F17),2)","v":0},{"$f":"MOD(SUM(G5:G17),2)","v":0},0,0,0,{"$f":"MOD(SUM(K5:K17),2)","v":0},0,0]
[]
[]
[]
[null,null,null,"1の個数判定",null,{"$f":"MOD(COUNTIF(F5:F17,1),2)","v":0},{"$f":"MOD(COUNTIF(G5:G17,1),2)","v":0},0,0,0,0,0,0]
[null,null,null,"1が奇数個ある最大位検索準備",null,{"$f":"F4*F23","v":0},0,0,0,0,0,0,0]
[null,null,null,"1が奇数個ある最大位",null,{"$f":"MAX(F24:M24)","v":0}]
[null,null,null,"1が奇数個ある最大位検索",null,{"$f":"IF($F25=0,\"\",IF(F24=$F$25,1,0))","v":""},"","","","","","",""]
[]
[null,null,null,"取去る山の候補の検索","山No",null,null,null,null,null,null,null,null,"和（取去る山の候補に1）"]
[]
[null,null,null,null,13,{"$f":"F$26*F5","v":{"$error":"#VALUE!"}},{"$error":"#VALUE!"},{"$error":"#VALUE!"},{"$error":"#VALUE!"},{"$error":"#VALUE!"},{"$error":"#VALUE!"},{"$error":"#VALUE!"},{"$error":"#VALUE!"},{"$f":"SUM(F30:M30)","v":{"$error":"#VALUE!"}}]
[null,null,null,null,12,{"$f":"F$26*F6","v":{"$error":"#VALUE!"}},{"$error":"#VALUE!"},{"$error":"#VALUE!"},{"$error":"#VALUE!"},{"$error":"#VALUE!"},{"$error":"#VALUE!"},{"$error":"#VALUE!"},{"$error":"#VALUE!"},{"$error":"#VALUE!"}]
[null,null,null,null,11,{"$f":"F$26*F7","v":{"$error":"#VALUE!"}},{"$error":"#VALUE!"},{"$error":"#VALUE!"},{"$error":"#VALUE!"},{"$error":"#VALUE!"},{"$error":"#VALUE!"},{"$error":"#VALUE!"},{"$error":"#VALUE!"},{"$error":"#VALUE!"}]
[null,null,null,null,10,{"$f":"F$26*F8","v":{"$error":"#VALUE!"}},{"$error":"#VALUE!"},{"$error":"#VALUE!"},{"$error":"#VALUE!"},{"$error":"#VALUE!"},{"$error":"#VALUE!"},{"$error":"#VALUE!"},{"$error":"#VALUE!"},{"$error":"#VALUE!"}]
[null,null,null,null,9,{"$f":"F$26*F9","v":{"$error":"#VALUE!"}},{"$error":"#VALUE!"},{"$error":"#VALUE!"},{"$error":"#VALUE!"},{"$error":"#VALUE!"},{"$error":"#VALUE!"},{"$error":"#VALUE!"},{"$error":"#VALUE!"},{"$error":"#VALUE!"}]
[null,null,null,null,8,{"$f":"F$26*F10","v":{"$error":"#VALUE!"}},{"$error":"#VALUE!"},{"$error":"#VALUE!"},{"$error":"#VALUE!"},{"$error":"#VALUE!"},{"$error":"#VALUE!"},{"$error":"#VALUE!"},{"$error":"#VALUE!"},{"$error":"#VALUE!"}]
[null,null,null,null,7,{"$f":"F$26*F11","v":{"$error":"#VALUE!"}},{"$error":"#VALUE!"},{"$error":"#VALUE!"},{"$error":"#VALUE!"},{"$error":"#VALUE!"},{"$error":"#VALUE!"},{"$error":"#VALUE!"},{"$error":"#VALUE!"},{"$f":"SUM(F36:M36)","v":{"$error":"#VALUE!"}}]
[null,null,null,null,6,{"$f":"F$26*F12","v":{"$error":"#VALUE!"}},{"$error":"#VALUE!"},{"$error":"#VALUE!"},{"$error":"#VALUE!"},{"$error":"#VALUE!"},{"$error":"#VALUE!"},{"$error":"#VALUE!"},{"$error":"#VALUE!"},{"$error":"#VALUE!"}]
[null,null,null,null,5,{"$f":"F$26*F13","v":{"$error":"#VALUE!"}},{"$error":"#VALUE!"},{"$error":"#VALUE!"},{"$error":"#VALUE!"},{"$error":"#VALUE!"},{"$error":"#VALUE!"},{"$error":"#VALUE!"},{"$error":"#VALUE!"},{"$error":"#VALUE!"}]
[null,null,null,null,4,{"$f":"F$26*F14","v":{"$error":"#VALUE!"}},{"$error":"#VALUE!"},{"$error":"#VALUE!"},{"$error":"#VALUE!"},{"$error":"#VALUE!"},{"$error":"#VALUE!"},{"$error":"#VALUE!"},{"$error":"#VALUE!"},{"$error":"#VALUE!"}]
[null,null,null,null,3,{"$f":"F$26*F15","v":{"$error":"#VALUE!"}},{"$error":"#VALUE!"},{"$error":"#VALUE!"},{"$error":"#VALUE!"},{"$error":"#VALUE!"},{"$error":"#VALUE!"},{"$error":"#VALUE!"},{"$error":"#VALUE!"},{"$error":"#VALUE!"}]
[null,null,null,null,2,{"$f":"F$26*F16","v":{"$error":"#VALUE!"}},{"$error":"#VALUE!"},{"$error":"#VALUE!"},{"$error":"#VALUE!"},{"$error":"#VALUE!"},{"$error":"#VALUE!"},{"$error":"#VALUE!"},{"$error":"#VALUE!"},{"$error":"#VALUE!"}]
[null,null,null,null,1,{"$f":"F$26*F17","v":{"$error":"#VALUE!"}},{"$error":"#VALUE!"},{"$error":"#VALUE!"},{"$error":"#VALUE!"},{"$error":"#VALUE!"},{"$error":"#VALUE!"},{"$error":"#VALUE!"},{"$error":"#VALUE!"},{"$error":"#VALUE!"}]
[]
[null,null,null,"取り方の計算1","山No"]
[null,null,null,"符号の決定",13,{"$f":"IF(F$19=1,IF(F5=1,1,-1),0)","v":0},0,0,0,0,0,0,0]
[null,null,null,null,12,0,0,0,0,0,0,0,0]
[null,null,null,null,11,0,0,0,0,0,0,0,0]
[null,null,null,null,10,0,0,0,0,0,0,0,0]
[null,null,null,null,9,0,0,0,0,0,0,0,0]
[null,null,null,null,8,0,0,0,0,0,0,0,0]
[null,null,null,null,7,0,0,0,0,0,0,0,0]
[null,null,null,null,6,0,0,0,0,0,0,0,0]
[null,null,null,null,5,0,0,0,0,0,0,0,0]
[null,null,null,null,4,0,0,0,0,0,0,0,0]
[null,null,null,null,3,0,0,0,0,0,0,0,0]
[null,null,null,null,2,0,0,0,0,0,0,0,0]
[null,null,null,null,1,{"$f":"IF(F$19=1,IF(F17=1,1,-1),0)","v":0},{"$f":"IF(G$19=1,IF(G17=1,1,-1),0)","v":0},0,0,0,0,0,0]
[]
[null,null,null,"取り方の計算1","山No",null,null,null,null,null,null,null,null,"和（取去る山の候補に1）","取る石の合計"]
[null,null,null,"重みつき",13,{"$f":"IF($N60=1,F45*F$4,0)","v":{"$error":"#VALUE!"}},{"$error":"#VALUE!"},{"$error":"#VALUE!"},{"$error":"#VALUE!"},{"$error":"#VALUE!"},{"$error":"#VALUE!"},{"$error":"#VALUE!"},{"$error":"#VALUE!"},{"$f":"N30","v":{"$error":"#VALUE!"}},{"$f":"IF(ISERROR(SUM(F60:M60)),\"\",SUM(F60:M60))","v":""}]
[null,null,null,null,12,{"$error":"#VALUE!"},{"$error":"#VALUE!"},{"$error":"#VALUE!"},{"$error":"#VALUE!"},{"$error":"#VALUE!"},{"$error":"#VALUE!"},{"$error":"#VALUE!"},{"$error":"#VALUE!"},{"$error":"#VALUE!"},""]
[null,null,null,null,11,{"$error":"#VALUE!"},{"$error":"#VALUE!"},{"$error":"#VALUE!"},{"$error":"#VALUE!"},{"$error":"#VALUE!"},{"$error":"#VALUE!"},{"$error":"#VALUE!"},{"$error":"#VALUE!"},{"$error":"#VALUE!"},""]
[null,null,null,null,10,{"$error":"#VALUE!"},{"$error":"#VALUE!"},{"$error":"#VALUE!"},{"$error":"#VALUE!"},{"$error":"#VALUE!"},{"$error":"#VALUE!"},{"$error":"#VALUE!"},{"$error":"#VALUE!"},{"$error":"#VALUE!"},""]
[null,null,null,null,9,{"$error":"#VALUE!"},{"$error":"#VALUE!"},{"$error":"#VALUE!"},{"$error":"#VALUE!"},{"$error":"#VALUE!"},{"$error":"#VALUE!"},{"$error":"#VALUE!"},{"$error":"#VALUE!"},{"$error":"#VALUE!"},""]
[null,null,null,null,8,{"$error":"#VALUE!"},{"$error":"#VALUE!"},{"$error":"#VALUE!"},{"$error":"#VALUE!"},{"$error":"#VALUE!"},{"$error":"#VALUE!"},{"$error":"#VALUE!"},{"$error":"#VALUE!"},{"$error":"#VALUE!"},""]
[null,null,null,null,7,{"$error":"#VALUE!"},{"$error":"#VALUE!"},{"$error":"#VALUE!"},{"$error":"#VALUE!"},{"$error":"#VALUE!"},{"$error":"#VALUE!"},{"$error":"#VALUE!"},{"$error":"#VALUE!"},{"$f":"N36","v":{"$error":"#VALUE!"}},{"$f":"IF(ISERROR(SUM(F66:M66)),\"\",SUM(F66:M66))","v":""}]
[null,null,null,null,6,{"$error":"#VALUE!"},{"$error":"#VALUE!"},{"$error":"#VALUE!"},{"$error":"#VALUE!"},{"$error":"#VALUE!"},{"$error":"#VALUE!"},{"$error":"#VALUE!"},{"$error":"#VALUE!"},{"$error":"#VALUE!"},""]
[null,null,null,null,5,{"$error":"#VALUE!"},{"$error":"#VALUE!"},{"$error":"#VALUE!"},{"$error":"#VALUE!"},{"$error":"#VALUE!"},{"$error":"#VALUE!"},{"$error":"#VALUE!"},{"$error":"#VALUE!"},{"$error":"#VALUE!"},""]
[null,null,null,null,4,{"$error":"#VALUE!"},{"$error":"#VALUE!"},{"$error":"#VALUE!"},{"$error":"#VALUE!"},{"$error":"#VALUE!"},{"$error":"#VALUE!"},{"$error":"#VALUE!"},{"$error":"#VALUE!"},{"$error":"#VALUE!"},""]
[null,null,null,null,3,{"$error":"#VALUE!"},{"$error":"#VALUE!"},{"$error":"#VALUE!"},{"$error":"#VALUE!"},{"$error":"#VALUE!"},{"$error":"#VALUE!"},{"$error":"#VALUE!"},{"$error":"#VALUE!"},{"$error":"#VALUE!"},""]
[null,null,null,null,2,{"$error":"#VALUE!"},{"$error":"#VALUE!"},{"$error":"#VALUE!"},{"$error":"#VALUE!"},{"$error":"#VALUE!"},{"$error":"#VALUE!"},{"$error":"#VALUE!"},{"$error":"#VALUE!"},{"$error":"#VALUE!"},""]
[null,null,null,null,1,{"$f":"IF($N72=1,F57*F$4,0)","v":{"$error":"#VALUE!"}},{"$f":"IF($N72=1,G57*G$4,0)","v":{"$error":"#VALUE!"}},{"$error":"#VALUE!"},{"$error":"#VALUE!"},{"$error":"#VALUE!"},{"$error":"#VALUE!"},{"$error":"#VALUE!"},{"$error":"#VALUE!"},{"$error":"#VALUE!"},""]