{"text_format":"1","workbook":"xlsx","n_sheets":3,"sheets":["Nimble","必勝の取り方","NIM和"],"not_rendered":{"charts":0,"images":0,"macros":1,"external_links":0,"defined_names":0,"comments":0,"pivot_tables":0},"unopened":[],"bounds":{"document_bytes":16777216,"sheet_cells":100000,"rows_first":2000,"rows_last":500,"rows_between":2000,"halvings":0,"cell_chars":16384,"cell_head_chars":4096},"cells_cut":0,"cells_raw":0,"read":"whole","date_system":"1900"}

{"sheet":"Nimble","index":0,"n_rows":35,"n_cols":21,"rows_kept":35,"cut":false,"hidden":false,"merged":[[16,1,16,3],[17,1,17,3]]}
["Nimble"]
["操作回数",0,null,null,"GOAL",null,null,null,null,null,null,null,null,null,null,null,null,null,null,null,"■■■"]
[null,null,null,null,{"$f":"IF(E$18>=$S3,$U$2,\"\")","v":""},"","","","","","","",{"$f":"IF(M$18>=$S3,$U$2,\"\")","v":""},{"$f":"IF(N$18>=$S3,$U$2,\"\")","v":""},null,null,null,null,7]
[null,null,null,null,"","","","","","","","","","",null,null,null,null,6]
[null,null,null,{"$f":"IF(D$30>=$S5,$U$2,\"\")","v":""},"","","","","","","","","","",null,null,null,null,5]
[null,null,null,"","","","","","","","","","","",null,null,null,null,4]
[null,null,null,"","","","","","","","","","","",null,null,null,null,3]
[null,null,null,"","","","","","","","","","","",null,null,null,null,2]
[null,null,null,"","","","","","","","","","",{"$f":"IF(N$18>=$S9,$U$2,\"\")","v":""},null,null,null,null,1]
[]
[]
[]
[]
[]
[]
[]
[null,"場所No",null,null,0,1,2,3,4,5,6,7,8,9,null,null,null,null,"合計"]
[null,"初めのコインの枚数",null,null,null,null,null,null,null,null,null,null,null,null,{"$f":"SUM(E18:N18)","v":0},null,null,null,5]
[null,null,null,null,null,null,null,null,null,null,null,null,null,{"$f":"IF(O18>7,\"枚数は７枚までです\",\"\")","v":""}]
[]
[]
[]
[]
[]
[]
[]
[]
[]
[]
[]
[null,null,null,"左への移動判定",{"$f":"N18*10^9+M18*10^8+L18*10^7+K18*10^6+J18*10^5+I18*10^4+H18*10^3+G18*10^2+F18*10^1+E18","v":0}]
[]
[]
[]
[1,2,3,4,5,6,7,8,9,10,11,12,13,14,15,16,17,18,19]

{"sheet":"必勝の取り方","index":1,"n_rows":9,"n_cols":3,"rows_kept":9,"cut":false,"hidden":false,"merged":[]}
[]
[null,"コインの位置","移動させる位置"]
[null,{"$f":"IF(NIM和!O60>0,NIM和!D24,\"\")","v":0},{"$f":"IF(NIM和!O60=\"\",\"手はありません（負ける）\",IF(ISERROR(B3-NIM和!O60),\"\",B3-NIM和!O60))","v":"手はありません（負ける）"}]
[null,{"$f":"IF(NIM和!O61>0,NIM和!D25,\"\")","v":0},{"$f":"IF(NIM和!O61=\"\",\"手はありません（負ける）\",IF(ISERROR(B4-NIM和!O61),\"\",B4-NIM和!O61))","v":"手はありません（負ける）"}]
[null,{"$f":"IF(NIM和!O62>0,NIM和!D26,\"\")","v":0},{"$f":"IF(NIM和!O62=\"\",\"手はありません（負ける）\",IF(ISERROR(B5-NIM和!O62),\"\",B5-NIM和!O62))","v":"手はありません（負ける）"}]
[null,{"$f":"IF(NIM和!O63>0,NIM和!D27,\"\")","v":0},{"$f":"IF(NIM和!O63=\"\",\"手はありません（負ける）\",IF(ISERROR(B6-NIM和!O63),\"\",B6-NIM和!O63))","v":"手はありません（負ける）"}]
[null,{"$f":"IF(NIM和!O64>0,NIM和!D28,\"\")","v":0},{"$f":"IF(NIM和!O64=\"\",\"手はありません（負ける）\",IF(ISERROR(B7-NIM和!O64),\"\",B7-NIM和!O64))","v":"手はありません（負ける）"}]
[null,{"$f":"IF(NIM和!O65>0,NIM和!D29,\"\")","v":0},{"$f":"IF(NIM和!O65=\"\",\"手はありません（負ける）\",IF(ISERROR(B8-NIM和!O65),\"\",B8-NIM和!O65))","v":"手はありません（負ける）"}]
[null,{"$f":"IF(NIM和!O66>0,NIM和!D30,\"\")","v":0},{"$f":"IF(NIM和!O66=\"\",\"手はありません（負ける）\",IF(ISERROR(B9-NIM和!O66),\"\",B9-NIM和!O66))","v":"手はありません（負ける）"}]

{"sheet":"NIM和","index":2,"n_rows":66,"n_cols":15,"rows_kept":66,"cut":false,"hidden":true,"merged":[[0,4,0,13],[11,4,11,13]]}
["NIM和の計算シート",null,null,null,"重みに対する個数の表"]
[null,null,null,null,0,1,2,3,4,5,6,7,8,9]
[null,null,null,null,null,{"$f":"IF(Nimble!F3=\"■■■\",1,0)","v":0},{"$f":"IF(Nimble!G3=\"■■■\",1,0)","v":0},{"$f":"IF(Nimble!H3=\"■■■\",1,0)","v":0},{"$f":"IF(Nimble!I3=\"■■■\",1,0)","v":0},{"$f":"IF(Nimble!J3=\"■■■\",1,0)","v":0},{"$f":"IF(Nimble!K3=\"■■■\",1,0)","v":0},{"$f":"IF(Nimble!L3=\"■■■\",1,0)","v":0},{"$f":"IF(Nimble!M3=\"■■■\",1,0)","v":0},{"$f":"IF(Nimble!N3=\"■■■\",1,0)","v":0}]
[null,null,null,null,null,{"$f":"IF(Nimble!F4=\"■■■\",1,0)","v":0},{"$f":"IF(Nimble!G4=\"■■■\",1,0)","v":0},{"$f":"IF(Nimble!H4=\"■■■\",1,0)","v":0},{"$f":"IF(Nimble!I4=\"■■■\",1,0)","v":0},{"$f":"IF(Nimble!J4=\"■■■\",1,0)","v":0},{"$f":"IF(Nimble!K4=\"■■■\",1,0)","v":0},{"$f":"IF(Nimble!L4=\"■■■\",1,0)","v":0},{"$f":"IF(Nimble!M4=\"■■■\",1,0)","v":0},{"$f":"IF(Nimble!N4=\"■■■\",1,0)","v":0}]
[null,null,null,null,null,{"$f":"IF(Nimble!F5=\"■■■\",1,0)","v":0},{"$f":"IF(Nimble!G5=\"■■■\",1,0)","v":0},{"$f":"IF(Nimble!H5=\"■■■\",1,0)","v":0},{"$f":"IF(Nimble!I5=\"■■■\",1,0)","v":0},{"$f":"IF(Nimble!J5=\"■■■\",1,0)","v":0},{"$f":"IF(Nimble!K5=\"■■■\",1,0)","v":0},{"$f":"IF(Nimble!L5=\"■■■\",1,0)","v":0},{"$f":"IF(Nimble!M5=\"■■■\",1,0)","v":0},{"$f":"IF(Nimble!N5=\"■■■\",1,0)","v":0}]
[null,null,null,null,null,{"$f":"IF(Nimble!F6=\"■■■\",1,0)","v":0},{"$f":"IF(Nimble!G6=\"■■■\",1,0)","v":0},{"$f":"IF(Nimble!H6=\"■■■\",1,0)","v":0},{"$f":"IF(Nimble!I6=\"■■■\",1,0)","v":0},{"$f":"IF(Nimble!J6=\"■■■\",1,0)","v":0},{"$f":"IF(Nimble!K6=\"■■■\",1,0)","v":0},{"$f":"IF(Nimble!L6=\"■■■\",1,0)","v":0},{"$f":"IF(Nimble!M6=\"■■■\",1,0)","v":0},{"$f":"IF(Nimble!N6=\"■■■\",1,0)","v":0}]
[null,null,null,null,null,{"$f":"IF(Nimble!F7=\"■■■\",1,0)","v":0},{"$f":"IF(Nimble!G7=\"■■■\",1,0)","v":0},{"$f":"IF(Nimble!H7=\"■■■\",1,0)","v":0},{"$f":"IF(Nimble!I7=\"■■■\",1,0)","v":0},{"$f":"IF(Nimble!J7=\"■■■\",1,0)","v":0},{"$f":"IF(Nimble!K7=\"■■■\",1,0)","v":0},{"$f":"IF(Nimble!L7=\"■■■\",1,0)","v":0},{"$f":"IF(Nimble!M7=\"■■■\",1,0)","v":0},{"$f":"IF(Nimble!N7=\"■■■\",1,0)","v":0}]
[null,null,null,null,null,{"$f":"IF(Nimble!F8=\"■■■\",1,0)","v":0},{"$f":"IF(Nimble!G8=\"■■■\",1,0)","v":0},{"$f":"IF(Nimble!H8=\"■■■\",1,0)","v":0},{"$f":"IF(Nimble!I8=\"■■■\",1,0)","v":0},{"$f":"IF(Nimble!J8=\"■■■\",1,0)","v":0},{"$f":"IF(Nimble!K8=\"■■■\",1,0)","v":0},{"$f":"IF(Nimble!L8=\"■■■\",1,0)","v":0},{"$f":"IF(Nimble!M8=\"■■■\",1,0)","v":0},{"$f":"IF(Nimble!N8=\"■■■\",1,0)","v":0}]
[null,null,null,null,null,{"$f":"IF(Nimble!F9=\"■■■\",1,0)","v":0},{"$f":"IF(Nimble!G9=\"■■■\",1,0)","v":0},{"$f":"IF(Nimble!H9=\"■■■\",1,0)","v":0},{"$f":"IF(Nimble!I9=\"■■■\",1,0)","v":0},{"$f":"IF(Nimble!J9=\"■■■\",1,0)","v":0},{"$f":"IF(Nimble!K9=\"■■■\",1,0)","v":0},{"$f":"IF(Nimble!L9=\"■■■\",1,0)","v":0},{"$f":"IF(Nimble!M9=\"■■■\",1,0)","v":0},{"$f":"IF(Nimble!N9=\"■■■\",1,0)","v":0}]
[]
[]
[null,null,null,null,"重みつきの表"]
[null,null,null,null,0,1,2,3,4,5,6,7,8,9]
[null,null,null,null,null,{"$f":"F$2*F3","v":0},{"$f":"G$2*G3","v":0},0,0,0,0,0,0,0]
[null,null,null,null,null,{"$f":"F$2*F4","v":0},0,0,0,0,0,0,0,0]
[null,null,null,null,null,0,0,0,0,0,0,0,0,0]
[null,null,null,null,null,0,0,0,0,0,0,0,0,0]
[null,null,null,null,null,0,0,0,0,0,0,0,0,0]
[null,null,null,null,null,0,0,0,0,0,0,0,0,0]
[null,null,null,null,null,0,0,0,0,0,0,0,0,0]
[]
[]
[null,null,"山No","石の合計",null,128,64,32,16,8,4,2,1]
[null,null,7,{"$f":"LARGE($F$14:$N$20,C24)","v":0},null,{"$f":"($D24-MOD($D24,F$23))/F$23","v":0},{"$f":"($D24-F$23*F24-MOD($D24,G$23))/G$23","v":0},{"$f":"($D24-F$23*$F24-G$23*G24-MOD($D24,H$23))/H$23","v":0},{"$f":"($D24-F$23*$F24-G$23*$G24-H$23*H24-MOD($D24,I$23))/I$23","v":0},{"$f":"($D24-F$23*$F24-G$23*$G24-H$23*$H24-I$23*I24-MOD($D24,J$23))/J$23","v":0},{"$f":"($D24-F$23*$F24-G$23*$G24-H$23*$H24-I$23*I24-J$23*J24-MOD($D24,K$23))/K$23","v":0},{"$f":"($D24-F$23*$F24-G$23*$G24-H$23*$H24-I$23*I24-J$23*J24-K$23*K24-MOD($D24,L$23))/L$23","v":0},{"$f":"($D24-F$23*$F24-G$23*$G24-H$23*$H24-I$23*I24-J$23*J24-K$23*K24-L$23*L24-MOD($D24,M$23))/M$23","v":0}]
[null,null,6,0,null,0,0,0,0,0,0,0,0]
[null,null,5,0,null,0,0,0,0,0,0,0,0]
[null,null,4,0,null,0,0,0,0,0,0,0,0]
[null,null,3,0,null,0,0,0,0,0,0,0,0]
[null,null,2,0,null,0,0,0,0,0,0,0,0]
[null,null,1,{"$f":"LARGE($F$14:$N$20,C30)","v":0},null,0,0,0,0,0,0,0,0]
[]
[null,null,"NIM和",{"$f":"F23*F32+G23*G32+H23*H32+I23*I32+J23*J32+K23*K32+L23*L32+M23*M32","v":0},null,{"$f":"MOD(SUM(F24:F30),2)","v":0},0,0,0,0,0,0,0]
[]
[]
[]
[null,null,null,"1の個数判定",null,{"$f":"MOD(COUNTIF(F24:F30,1),2)","v":0},{"$f":"MOD(COUNTIF(G24:G30,1),2)","v":0},0,0,0,0,0,0]
[null,null,null,"1が奇数個ある最大位検索準備",null,{"$f":"F23*F36","v":0},{"$f":"G23*G36","v":0},0,0,0,0,0,0]
[null,null,null,"1が奇数個ある最大位",null,{"$f":"MAX(F37:M37)","v":0}]
[null,null,null,"1が奇数個ある最大位検索",null,{"$f":"IF($F38=0,\"\",IF(F37=$F$38,1,0))","v":""},{"$f":"IF($F38=0,\"\",IF(G37=$F$38,1,0))","v":""},"","","","","",""]
[]
[null,null,null,"取去る山の候補の検索","山No",null,null,null,null,null,null,null,null,"和（取去る山の候補に1）"]
[null,null,null,null,7,{"$f":"F$39*F24","v":{"$error":"#VALUE!"}},{"$f":"G$39*G24","v":{"$error":"#VALUE!"}},{"$error":"#VALUE!"},{"$error":"#VALUE!"},{"$error":"#VALUE!"},{"$error":"#VALUE!"},{"$error":"#VALUE!"},{"$error":"#VALUE!"},{"$f":"SUM(F42:M42)","v":{"$error":"#VALUE!"}}]
[null,null,null,null,6,{"$error":"#VALUE!"},{"$error":"#VALUE!"},{"$error":"#VALUE!"},{"$error":"#VALUE!"},{"$error":"#VALUE!"},{"$error":"#VALUE!"},{"$error":"#VALUE!"},{"$error":"#VALUE!"},{"$f":"SUM(F43:M43)","v":{"$error":"#VALUE!"}}]
[null,null,null,null,5,{"$error":"#VALUE!"},{"$error":"#VALUE!"},{"$error":"#VALUE!"},{"$error":"#VALUE!"},{"$error":"#VALUE!"},{"$error":"#VALUE!"},{"$error":"#VALUE!"},{"$error":"#VALUE!"},{"$error":"#VALUE!"}]
[null,null,null,null,4,{"$error":"#VALUE!"},{"$error":"#VALUE!"},{"$error":"#VALUE!"},{"$error":"#VALUE!"},{"$error":"#VALUE!"},{"$error":"#VALUE!"},{"$error":"#VALUE!"},{"$error":"#VALUE!"},{"$error":"#VALUE!"}]
[null,null,null,null,3,{"$error":"#VALUE!"},{"$error":"#VALUE!"},{"$error":"#VALUE!"},{"$error":"#VALUE!"},{"$error":"#VALUE!"},{"$error":"#VALUE!"},{"$error":"#VALUE!"},{"$error":"#VALUE!"},{"$error":"#VALUE!"}]
[null,null,null,null,2,{"$error":"#VALUE!"},{"$error":"#VALUE!"},{"$error":"#VALUE!"},{"$error":"#VALUE!"},{"$error":"#VALUE!"},{"$error":"#VALUE!"},{"$error":"#VALUE!"},{"$error":"#VALUE!"},{"$error":"#VALUE!"}]
[null,null,null,null,1,{"$error":"#VALUE!"},{"$error":"#VALUE!"},{"$error":"#VALUE!"},{"$error":"#VALUE!"},{"$error":"#VALUE!"},{"$error":"#VALUE!"},{"$error":"#VALUE!"},{"$error":"#VALUE!"},{"$error":"#VALUE!"}]
[]
[null,null,null,"取り方の計算1","山No"]
[null,null,null,"符号の決定",7,{"$f":"IF(F$32=1,IF(F24=1,1,-1),0)","v":0},0,0,0,0,0,0,0]
[null,null,null,null,6,{"$f":"IF(F$32=1,IF(F25=1,1,-1),0)","v":0},0,0,0,0,0,0,0]
[null,null,null,null,5,{"$f":"IF(F$32=1,IF(F26=1,1,-1),0)","v":0},0,0,0,0,0,0,0]
[null,null,null,null,4,{"$f":"IF(F$32=1,IF(F27=1,1,-1),0)","v":0},0,0,0,0,0,0,0]
[null,null,null,null,3,{"$f":"IF(F$32=1,IF(F28=1,1,-1),0)","v":0},0,0,0,0,0,0,0]
[null,null,null,null,2,{"$f":"IF(F$32=1,IF(F29=1,1,-1),0)","v":0},0,0,0,0,0,0,0]
[null,null,null,null,1,{"$f":"IF(F$32=1,IF(F30=1,1,-1),0)","v":0},0,0,0,0,{"$f":"IF(K$32=1,IF(K30=1,1,-1),0)","v":0},{"$f":"IF(L$32=1,IF(L30=1,1,-1),0)","v":0},0]
[]
[null,null,null,"取り方の計算1","山No",null,null,null,null,null,null,null,null,"和（取去る山の候補に1）","取る石の合計"]
[null,null,null,"重みつき",7,{"$f":"IF($N60=1,F51*F$23,0)","v":{"$error":"#VALUE!"}},{"$error":"#VALUE!"},{"$error":"#VALUE!"},{"$error":"#VALUE!"},{"$error":"#VALUE!"},{"$error":"#VALUE!"},{"$error":"#VALUE!"},{"$error":"#VALUE!"},{"$f":"N42","v":{"$error":"#VALUE!"}},{"$f":"IF(ISERROR(SUM(F60:M60)),\"\",SUM(F60:M60))","v":""}]
[null,null,null,null,6,{"$f":"IF($N61=1,F52*F$23,0)","v":{"$error":"#VALUE!"}},{"$error":"#VALUE!"},{"$error":"#VALUE!"},{"$error":"#VALUE!"},{"$error":"#VALUE!"},{"$error":"#VALUE!"},{"$error":"#VALUE!"},{"$error":"#VALUE!"},{"$error":"#VALUE!"},{"$f":"IF(ISERROR(SUM(F61:M61)),\"\",SUM(F61:M61))","v":""}]
[null,null,null,null,5,{"$f":"IF($N62=1,F53*F$23,0)","v":{"$error":"#VALUE!"}},{"$error":"#VALUE!"},{"$error":"#VALUE!"},{"$error":"#VALUE!"},{"$error":"#VALUE!"},{"$error":"#VALUE!"},{"$error":"#VALUE!"},{"$error":"#VALUE!"},{"$error":"#VALUE!"},""]
[null,null,null,null,4,{"$f":"IF($N63=1,F54*F$23,0)","v":{"$error":"#VALUE!"}},{"$error":"#VALUE!"},{"$error":"#VALUE!"},{"$error":"#VALUE!"},{"$error":"#VALUE!"},{"$error":"#VALUE!"},{"$error":"#VALUE!"},{"$error":"#VALUE!"},{"$error":"#VALUE!"},""]
[null,null,null,null,3,{"$f":"IF($N64=1,F55*F$23,0)","v":{"$error":"#VALUE!"}},{"$error":"#VALUE!"},{"$error":"#VALUE!"},{"$error":"#VALUE!"},{"$error":"#VALUE!"},{"$error":"#VALUE!"},{"$error":"#VALUE!"},{"$error":"#VALUE!"},{"$error":"#VALUE!"},""]
[null,null,null,null,2,{"$f":"IF($N65=1,F56*F$23,0)","v":{"$error":"#VALUE!"}},{"$error":"#VALUE!"},{"$error":"#VALUE!"},{"$error":"#VALUE!"},{"$error":"#VALUE!"},{"$error":"#VALUE!"},{"$error":"#VALUE!"},{"$error":"#VALUE!"},{"$error":"#VALUE!"},""]
[null,null,null,null,1,{"$f":"IF($N66=1,F57*F$23,0)","v":{"$error":"#VALUE!"}},{"$error":"#VALUE!"},{"$error":"#VALUE!"},{"$error":"#VALUE!"},{"$error":"#VALUE!"},{"$error":"#VALUE!"},{"$error":"#VALUE!"},{"$f":"IF($N66=1,M57*M$23,0)","v":{"$error":"#VALUE!"}},{"$error":"#VALUE!"},""]