{"text_format":"1","workbook":"xlsx","n_sheets":2,"sheets":["Sheet1","転倒数"],"not_rendered":{"charts":0,"images":0,"macros":1,"external_links":0,"defined_names":0,"comments":0,"pivot_tables":0},"unopened":[],"bounds":{"document_bytes":16777216,"sheet_cells":100000,"rows_first":2000,"rows_last":500,"rows_between":2000,"halvings":0,"cell_chars":16384,"cell_head_chars":4096},"cells_cut":0,"cells_raw":0,"read":"whole","date_system":"1900"}

{"sheet":"Sheet1","index":0,"n_rows":32,"n_cols":24,"rows_kept":32,"cut":false,"hidden":false,"merged":[]}
[]
[null,1,2,3,4,null,null,null,null,null,null,1,2,3,4,null,null,null,null,null,null,"判定",{"$f":"IF(OR(AND(E32=\"白マス\",MOD(E28,2)=0),AND(E32=\"黒マス\",MOD(E28,2)=1)),\"不可能\",\"可能\")","v":"可能"}]
[null,5,12,6,9,null,null,null,null,null,null,5,12,6,9,null,null,null,null,null,null,"↑右表転記ボタンを押してください"]
[null,8,13,11,14,null,null,null,null,null,null,8,13,11,14]
[null,7,10,15,null,null,null,null,null,null,null,7,10,15]
[]
[null,1,2,3,4,5,6,7,8,9,10,11,12,13,14,15,16,"転倒数"]
[null,1,2,3,4,5,12,6,9,8,13,11,14,7,10,15,null,{"$f":"転倒数!Q4","v":16}]
[]
[null,"移動前","移動先","0-->16","○×","巡回置換",null,null,null,null,null,null,null,null,null,null,null,null,null,null,null,null,"MIN2","自明巡回置換個数"]
[null,1,{"$f":"B8","v":1},{"$f":"IF(C11=0,16,C11)","v":1},{"$f":"IF(F11>=W11,\"×\",\"○\")","v":"×"},1,{"$f":"IFERROR(IF(VLOOKUP(F11,$B$11:$D$26,3,0)=$F11,\"\",VLOOKUP(F11,$B$11:$D$26,3,0)),\"\")","v":""},{"$f":"IFERROR(IF(VLOOKUP(G11,$B$11:$D$26,3,0)=$F11,\"\",VLOOKUP(G11,$B$11:$D$26,3,0)),\"\")","v":""},"","","","","","","","","","","","","","",{"$f":"MIN(G11:V11)","v":0},{"$f":"IF(AND(COUNT(F11:V11)=1,E11=\"×\"),1,0)","v":1}]
[null,2,{"$f":"C8","v":2},{"$f":"IF(C12=0,16,C12)","v":2},{"$f":"IF(F12>=W12,\"×\",\"○\")","v":"×"},2,{"$f":"IFERROR(IF(VLOOKUP(F12,$B$11:$D$26,3,0)=$F12,\"\",VLOOKUP(F12,$B$11:$D$26,3,0)),\"\")","v":""},"","","","","","","","","","","","","","","",{"$f":"MIN(G12:V12)","v":0},{"$f":"IF(AND(COUNT(F12:V12)=1,E12=\"×\"),1,0)","v":1}]
[null,3,{"$f":"D8","v":3},3,{"$f":"IF(F13>=W13,\"×\",\"○\")","v":"×"},3,"","","","","","","","","","","","","","","","",0,1]
[null,4,{"$f":"E8","v":4},4,"×",4,"","","","","","","","","","","","","","","","",0,1]
[null,5,{"$f":"F8","v":5},5,"×",5,"","","","","","","","","","","","","","","","",0,1]
[null,6,{"$f":"G8","v":12},12,"○",6,12,14,10,13,7,"","","","","","","","","","","",7,0]
[null,7,{"$f":"H8","v":6},6,"×",7,6,12,14,10,13,"","","","","","","","","","","",6,0]
[null,8,{"$f":"I8","v":9},9,"○",8,9,"","","","","","","","","","","","","","","",9,0]
[null,9,{"$f":"J8","v":8},8,"×",9,8,"","","","","","","","","","","","","","","",8,0]
[null,10,{"$f":"K8","v":13},13,"×",10,13,7,6,12,14,"","","","","","","","","","","",6,0]
[null,11,{"$f":"L8","v":11},11,"×",11,"","","","","","","","","","","","","","","","",0,1]
[null,12,{"$f":"M8","v":14},14,"×",12,14,10,13,7,6,"","","","","","","","","","","",6,0]
[null,13,{"$f":"N8","v":7},7,"×",13,7,6,12,14,10,"","","","","","","","","","","",6,0]
[null,14,{"$f":"O8","v":10},10,"×",14,10,13,7,6,12,"","","","","","","","","","","",6,0]
[null,15,{"$f":"P8","v":15},15,"×",15,"","","","","","","","","","","","","","","","",0,1]
[null,16,{"$f":"Q8","v":0},16,{"$f":"IF(F26>=W26,\"×\",\"○\")","v":"×"},16,"","","","","","","","","","","","","","","","",0,1]
[]
[null,null,null,null,{"$f":"SUM(X11:X26)+COUNTIF(E11:E26,\"○\")","v":10}]
[null,null,null,null,"↑巡回置換の個数　これが偶数なら偶置換、奇数なら奇置換"]
[null,null,null,null,{"$f":"MATCH(0,C11:C26,0)","v":16}]
[null,null,null,null,"↑16があるマスNo"]
[null,null,null,null,{"$f":"IF(OR(E30=1,E30=3,E30=6,E30=8,E30=9,E30=11,E30=14,E30=16),\"黒マス\",\"白マス\")","v":"黒マス"}]

{"sheet":"転倒数","index":1,"n_rows":4,"n_cols":17,"rows_kept":4,"cut":false,"hidden":true,"merged":[]}
[]
[]
["置換",{"$f":"Sheet1!B8","v":1},{"$f":"Sheet1!C8","v":2},{"$f":"Sheet1!D8","v":3},{"$f":"Sheet1!E8","v":4},{"$f":"Sheet1!F8","v":5},{"$f":"Sheet1!G8","v":12},{"$f":"Sheet1!H8","v":6},{"$f":"Sheet1!I8","v":9},{"$f":"Sheet1!J8","v":8},{"$f":"Sheet1!K8","v":13},{"$f":"Sheet1!L8","v":11},{"$f":"Sheet1!M8","v":14},{"$f":"Sheet1!N8","v":7},{"$f":"Sheet1!O8","v":10},{"$f":"Sheet1!P8","v":15},"合計"]
["転倒数",{"$f":"COUNTIF(A$3:$B3,\">\"&B3)","v":0},{"$f":"COUNTIF($B$3:B3,\">\"&C3)","v":0},{"$f":"COUNTIF($B$3:C3,\">\"&D3)","v":0},{"$f":"COUNTIF($B$3:D3,\">\"&E3)","v":0},{"$f":"COUNTIF($B$3:E3,\">\"&F3)","v":0},{"$f":"COUNTIF($B$3:F3,\">\"&G3)","v":0},{"$f":"COUNTIF($B$3:G3,\">\"&H3)","v":1},{"$f":"COUNTIF($B$3:H3,\">\"&I3)","v":1},{"$f":"COUNTIF($B$3:I3,\">\"&J3)","v":2},{"$f":"COUNTIF($B$3:J3,\">\"&K3)","v":0},{"$f":"COUNTIF($B$3:K3,\">\"&L3)","v":2},{"$f":"COUNTIF($B$3:L3,\">\"&M3)","v":0},{"$f":"COUNTIF($B$3:M3,\">\"&N3)","v":6},{"$f":"COUNTIF($B$3:N3,\">\"&O3)","v":4},{"$f":"COUNTIF($B$3:O3,\">\"&P3)","v":0},{"$f":"SUM(B4:P4)","v":16}]